BEGIN:VCALENDAR
VERSION:2.0
PRODID:-//L&#039;Union - ECPv6.15.20//NONSGML v1.0//EN
CALSCALE:GREGORIAN
METHOD:PUBLISH
X-WR-CALNAME:L&#039;Union
X-ORIGINAL-URL:https://www.lunion.nl
X-WR-CALDESC:Evenementen voor L&#039;Union
REFRESH-INTERVAL;VALUE=DURATION:PT1H
X-Robots-Tag:noindex
X-PUBLISHED-TTL:PT1H
BEGIN:VTIMEZONE
TZID:Europe/Amsterdam
BEGIN:DAYLIGHT
TZOFFSETFROM:+0100
TZOFFSETTO:+0200
TZNAME:CEST
DTSTART:20230326T010000
END:DAYLIGHT
BEGIN:STANDARD
TZOFFSETFROM:+0200
TZOFFSETTO:+0100
TZNAME:CET
DTSTART:20231029T010000
END:STANDARD
BEGIN:DAYLIGHT
TZOFFSETFROM:+0100
TZOFFSETTO:+0200
TZNAME:CEST
DTSTART:20240331T010000
END:DAYLIGHT
BEGIN:STANDARD
TZOFFSETFROM:+0200
TZOFFSETTO:+0100
TZNAME:CET
DTSTART:20241027T010000
END:STANDARD
BEGIN:DAYLIGHT
TZOFFSETFROM:+0100
TZOFFSETTO:+0200
TZNAME:CEST
DTSTART:20250330T010000
END:DAYLIGHT
BEGIN:STANDARD
TZOFFSETFROM:+0200
TZOFFSETTO:+0100
TZNAME:CET
DTSTART:20251026T010000
END:STANDARD
END:VTIMEZONE
BEGIN:VEVENT
DTSTART;TZID=Europe/Amsterdam:20241215T150000
DTEND;TZID=Europe/Amsterdam:20241215T170000
DTSTAMP:20260419T182507
CREATED:20241007T142222Z
LAST-MODIFIED:20241113T195705Z
UID:1833-1734274800-1734282000@www.lunion.nl
SUMMARY:Kerstconcert 2024
DESCRIPTION:• Kerstconcert 🎄✨🎼• \nTerug van weggeweest: het kerstconcert in de kerk in Bladel! Dit jaar kunt u weer komen genieten van de mooie kerstklanken van het harmonieorkest op zondagmiddag 15 december. De Koninklijke Harmonie L’Union zal een gevarieerd programma brengen met klassieke kerststukken en bekende hits! Ook de samenzang met orgelbegeleiding zal niet ontbreken. Noteer dit dus vast in uw agenda! \nAanvang: 15:00 uur en toegang is gratis.
URL:https://www.lunion.nl/evenementen/kerstconcert-2024/
LOCATION:Sint-Petrus’-Bandenkerk\, Sniederslaan 46\, Bladel\, 5531EL\, Nederland
CATEGORIES:Harmonieorkest
END:VEVENT
END:VCALENDAR